BEGIN:VCALENDAR
VERSION:2.0
PRODID:-//SVS Dans - ECPv6.15.20//NONSGML v1.0//EN
CALSCALE:GREGORIAN
METHOD:PUBLISH
X-WR-CALNAME:SVS Dans
X-ORIGINAL-URL:https://svsdans.nl
X-WR-CALDESC:Evenementen voor SVS Dans
REFRESH-INTERVAL;VALUE=DURATION:PT1H
X-Robots-Tag:noindex
X-PUBLISHED-TTL:PT1H
BEGIN:VTIMEZONE
TZID:Europe/Amsterdam
BEGIN:DAYLIGHT
TZOFFSETFROM:+0100
TZOFFSETTO:+0200
TZNAME:CEST
DTSTART:20250330T010000
END:DAYLIGHT
BEGIN:STANDARD
TZOFFSETFROM:+0200
TZOFFSETTO:+0100
TZNAME:CET
DTSTART:20251026T010000
END:STANDARD
BEGIN:DAYLIGHT
TZOFFSETFROM:+0100
TZOFFSETTO:+0200
TZNAME:CEST
DTSTART:20260329T010000
END:DAYLIGHT
BEGIN:STANDARD
TZOFFSETFROM:+0200
TZOFFSETTO:+0100
TZNAME:CET
DTSTART:20261025T010000
END:STANDARD
BEGIN:DAYLIGHT
TZOFFSETFROM:+0100
TZOFFSETTO:+0200
TZNAME:CEST
DTSTART:20270328T010000
END:DAYLIGHT
BEGIN:STANDARD
TZOFFSETFROM:+0200
TZOFFSETTO:+0100
TZNAME:CET
DTSTART:20271031T010000
END:STANDARD
END:VTIMEZONE
BEGIN:VEVENT
DTSTART;TZID=Europe/Amsterdam:20260509T000000
DTEND;TZID=Europe/Amsterdam:20260510T235959
DTSTAMP:20260422T150212
CREATED:20250922T113324Z
LAST-MODIFIED:20250922T113826Z
UID:886-1778284800-1778457599@svsdans.nl
SUMMARY:Voorronde NK Showdans Harderwijk
DESCRIPTION:Alle selectiegroepen
URL:https://svsdans.nl/event/voorronde-nk-showdans-harderwijk/
END:VEVENT
BEGIN:VEVENT
DTSTART;TZID=Europe/Amsterdam:20260524T100000
DTEND;TZID=Europe/Amsterdam:20260524T140000
DTSTAMP:20260422T150212
CREATED:20250928T095727Z
LAST-MODIFIED:20250928T095727Z
UID:900-1779616800-1779631200@svsdans.nl
SUMMARY:Schalkhaar Life
DESCRIPTION:De selectiegroepen en tienergroepen geven een demonstratie in het Haarhuus. \nDe kindergroepen geven een demonstratie in de feesttent.
URL:https://svsdans.nl/event/schalkhaar-life-4/
LOCATION:Haarhuus\, Ganzeboomsweg 5\, Schalkhaar
END:VEVENT
BEGIN:VEVENT
DTSTART;TZID=Europe/Amsterdam:20260613T000000
DTEND;TZID=Europe/Amsterdam:20260613T235959
DTSTAMP:20260422T150212
CREATED:20250922T113502Z
LAST-MODIFIED:20250922T113502Z
UID:888-1781308800-1781395199@svsdans.nl
SUMMARY:Mogelijk NK Jazz D selectie
DESCRIPTION:Indien geplaatst de D selectie
URL:https://svsdans.nl/event/mogelijk-nk-jazz-d-selectie/
END:VEVENT
BEGIN:VEVENT
DTSTART;TZID=Europe/Amsterdam:20260627T000000
DTEND;TZID=Europe/Amsterdam:20260627T235959
DTSTAMP:20260422T150212
CREATED:20250922T113644Z
LAST-MODIFIED:20250922T113855Z
UID:892-1782518400-1782604799@svsdans.nl
SUMMARY:NK Jazz
DESCRIPTION:Indien geplaatst de selectiegroepen (Mogelijk ook de D-selectie)
URL:https://svsdans.nl/event/nk-jazz/
LOCATION:Ahoy\, Rotterdam
END:VEVENT
BEGIN:VEVENT
DTSTART;TZID=Europe/Amsterdam:20260628T000000
DTEND;TZID=Europe/Amsterdam:20260628T235959
DTSTAMP:20260422T150212
CREATED:20250922T113748Z
LAST-MODIFIED:20250922T113748Z
UID:894-1782604800-1782691199@svsdans.nl
SUMMARY:NK Showdans
DESCRIPTION:Indien geplaatst. de selectiegroepen
URL:https://svsdans.nl/event/nk-showdans/
LOCATION:Ahoy\, Rotterdam
END:VEVENT
END:VCALENDAR